BEGIN:VCALENDAR
VERSION:2.0
PRODID:icalendar-ruby
CALSCALE:GREGORIAN
METHOD:PUBLISH
BEGIN:VEVENT
DTSTAMP:20260419T173243Z
UID:5-398295@firstbaptist245.tithelysetup2.com
DTSTART:20260802T170000Z
DTEND:20260802T180000Z
CLASS:PUBLIC
CREATED:20260419T102436
DESCRIPTION:Sunday Worship
LAST-MODIFIED:20260419T102436
LOCATION:
SUMMARY:Sunday Worship
URL;VALUE=URI:https://firstbaptist245.tithelysetup2.com/events/sunday-worsh
 ip/2026-08-02
END:VEVENT
END:VCALENDAR
